BEGIN:VCALENDAR
VERSION:2.0
PRODID:-//Squarespace Inc/Squarespace 6//v6//EN
BEGIN:VEVENT
UID:5dafcea80e51e12b1b016cd2@squarespace.com
DTSTAMP:20191023T035459Z
DTSTART:20191114T090000Z
DTEND:20191116T090000Z
SUMMARY:Anthony Salame @ The Sit Down Comedy Club
GEO:-27.462248;153.006638
LOCATION:The Paddo Tavern
END:VEVENT
END:VCALENDAR
