BEGIN:VCALENDAR
VERSION:2.0
PRODID:-//Squarespace Inc/Squarespace 6//v6//EN
BEGIN:VEVENT
UID:602ddb00328c273208b0276a@squarespace.com
DTSTAMP:20210218T031233Z
DTSTART:20210430T102000Z
DTEND:20210430T112000Z
SUMMARY:SYDNEY COMEDY FESTIVAL | Live
GEO:-33.894715;151.226665
LOCATION:Comedy Store\, Sydney
END:VEVENT
END:VCALENDAR
