BEGIN:VCALENDAR
VERSION:2.0
PRODID:-//Squarespace Inc/Squarespace 6//v6//EN
BEGIN:VEVENT
UID:602ddac53ed669037bc93679@squarespace.com
DTSTAMP:20210218T031155Z
DTSTART:20210508T101500Z
DTEND:20210508T111500Z
SUMMARY:PERTH COMEDY FESTIVAL | Live
GEO:-31.934086;115.872059
LOCATION:Astor Theatre\, Perth
END:VEVENT
END:VCALENDAR
